BEGIN:VCALENDAR
VERSION:2.0
PRODID:-//Green Party of Nova Scotia - ECPv6.15.12.2//NONSGML v1.0//EN
CALSCALE:GREGORIAN
METHOD:PUBLISH
X-WR-CALNAME:Green Party of Nova Scotia
X-ORIGINAL-URL:https://greenpartyns.ca
X-WR-CALDESC:Events for Green Party of Nova Scotia
REFRESH-INTERVAL;VALUE=DURATION:PT1H
X-Robots-Tag:noindex
X-PUBLISHED-TTL:PT1H
BEGIN:VTIMEZONE
TZID:America/Halifax
BEGIN:DAYLIGHT
TZOFFSETFROM:-0400
TZOFFSETTO:-0300
TZNAME:ADT
DTSTART:20180311T060000
END:DAYLIGHT
BEGIN:STANDARD
TZOFFSETFROM:-0300
TZOFFSETTO:-0400
TZNAME:AST
DTSTART:20181104T050000
END:STANDARD
BEGIN:DAYLIGHT
TZOFFSETFROM:-0400
TZOFFSETTO:-0300
TZNAME:ADT
DTSTART:20190310T060000
END:DAYLIGHT
BEGIN:STANDARD
TZOFFSETFROM:-0300
TZOFFSETTO:-0400
TZNAME:AST
DTSTART:20191103T050000
END:STANDARD
BEGIN:DAYLIGHT
TZOFFSETFROM:-0400
TZOFFSETTO:-0300
TZNAME:ADT
DTSTART:20200308T060000
END:DAYLIGHT
BEGIN:STANDARD
TZOFFSETFROM:-0300
TZOFFSETTO:-0400
TZNAME:AST
DTSTART:20201101T050000
END:STANDARD
END:VTIMEZONE
BEGIN:VEVENT
DTSTART;TZID=America/Halifax:20191110T160000
DTEND;TZID=America/Halifax:20191110T180000
DTSTAMP:20260425T222120
CREATED:20191029T181712Z
LAST-MODIFIED:20220929T180153Z
UID:2423-1573401600-1573408800@greenpartyns.ca
SUMMARY:GPNS Provincial Executive Monthly Meeting
DESCRIPTION:The GPNS Executive will meet via videoconference this month. All members of the Executive are encouraged to attend. Please submit agenda suggestions via Slack or email. \nExecutive meetings are open for observation by members. If you wish to observe\, please send an email to organizer@greenpartyns.ca – the Provincial Organizer will send you the link for the videoconference once one is prepared. \nNote: Originally\, this meeting was scheduled for 5pm-7pm\, but it has been moved an hour earlier to 4pm-6pm.
URL:https://greenpartyns.ca/event/gpns-provincial-executive-monthly-meeting/
LOCATION:Videoconference
ORGANIZER;CN="Green Party of Nova Scotia":MAILTO:gpns@greenpartyns.ca
END:VEVENT
BEGIN:VEVENT
DTSTART;TZID=America/Halifax:20191113T190000
DTEND;TZID=America/Halifax:20191113T210000
DTSTAMP:20260425T222120
CREATED:20191112T111325Z
LAST-MODIFIED:20220929T180153Z
UID:2464-1573671600-1573678800@greenpartyns.ca
SUMMARY:GPNS Bedford Basin Regional Meeting
DESCRIPTION:Open Invitation to a Meeting of the Bedford Basin Region of the Green Party\nof Nova Scotia (GPNS) \nAre you are interested in hearing about\, or contributing to\, the Green Party’s plans and aspirations for the Bedford Basin Region of Nova Scotia? We are holding a regional meeting this Wednesday evening and we would like you to attend. \nBuilding on the momentum and visibility gained by the Greens in the Federal Election\, the Green Party of Nova Scotia is now focusing it’s energies on\nbecoming a viable and impactful political party in time for the next Nova Scotia Provincial election. As part of this process\, GPNS is ramping up to be visibly present and engaged in every region and electoral district in the province. \nThe goal of the Nov 13th regional meeting is to determine policy or platform priorities for these electoral districts and grow the existing base of supporters. We are also looking for individuals willing to volunteer as constituency representatives for each riding which include: \nED-04    Bedford \nED-09    Clayton Park West \nED-29    Hammonds-Plains-Lucasville \nED-43    Sackville – Beaver Bank \nED-44    Sackville – Cobequid \nED-50    Waverly – Fall River – Beaverbank \n(see : https://enstools.electionsnovascotia.ca/edinfo2012/ to determine your ED) \nSnacks and beverages will be provided. If you would like to attend\, please RSVP to the Bedford Basin Region convener\, Stephanie Edmonds at s.edmondsknoll@gmail.com. \nIf you need a ride\, please let Stephanie know. \nThanks\, and we hope to see you Wednesday evening\, Nov 13th! \nRon G. Parker\, GPNS Bedford Basin Regional Executive Representative
URL:https://greenpartyns.ca/event/gpns-bedford-basin-regional-meeting/
LOCATION:47 Yerevan Drive\, Lower Sackville\, 47 Yerevan Drive\, Lower Sackville\, Nova Scotia\, B4C 4A8\, Canada
ORGANIZER;CN="GPNS Bedford Basin Region":MAILTO:bedford.basin@greenpartyns.ca
END:VEVENT
BEGIN:VEVENT
DTSTART;TZID=America/Halifax:20191117T100000
DTEND;TZID=America/Halifax:20191117T170000
DTSTAMP:20260425T222120
CREATED:20191029T185919Z
LAST-MODIFIED:20220929T180153Z
UID:2425-1573984800-1574010000@greenpartyns.ca
SUMMARY:GPNS Policy Discovery Meeting
DESCRIPTION:Hello fellow Greens and supporters\,\nYou are invited to attend the Green Party of Nova Scotia policy discovery meeting on November 17! \nThe meeting will include information on how Green policy is written and what sets it apart from other political policy. We will discuss the principles upon which Green policy is based\, how to submit policy\, and the steps that get policy ideas to membership votes and ratification. \nWe will also debrief from the Federal election and learn what the lessons and challenges faced the candidates and their teams. This will help prepare us for the upcoming provincial election. \nAttendees will have the opportunity to meet party leader Thomas Trappenberg and other party members from around the province. \nIt will be an enjoyable and educational day and we look forward to your participation in building on the strengths of our ethical\, inclusive policy development. \nClick here to RSVP now. \nNeed-to-Knows – Come Prepared!\nMugs – all hot beverage enthusiasts are encouraged to bring travel mugs. \nAppetite – We will provide refreshments of tea\, coffee\, water and light snacks\, as well as a pizza lunch from a local business. There will be gluten free and vegetarian options. Please RSVP with dietary requirements by following this link. Feel free to bring a bagged lunch should we not be able to meet your dietary needs. \nScent-Free Environment – Please be courteous to those with sensitivities and avoid wearing scented products. \nBring Friends – We are also extending this invitation to Green Party of Canada members\, as well as supporters who are not yet members of the GPNS.
URL:https://greenpartyns.ca/event/gpns-policy-discovery-meeting/
LOCATION:Middle Stewiacke Recreation Centre\, 2395 NS-289\, Middle Stewiacke\, Nova Scotia\, B0N 1C0
ORGANIZER;CN="Green Party of Nova Scotia":MAILTO:gpns@greenpartyns.ca
END:VEVENT
BEGIN:VEVENT
DTSTART;TZID=America/Halifax:20191121T190000
DTEND;TZID=America/Halifax:20191121T203000
DTSTAMP:20260425T222120
CREATED:20191029T191207Z
LAST-MODIFIED:20220929T180153Z
UID:2429-1574362800-1574368200@greenpartyns.ca
SUMMARY:GPNS Halifax Regional Meeting
DESCRIPTION:The agenda will be available soon. Please check back here for updates.
URL:https://greenpartyns.ca/event/general-meeting-halifax-region-2/
LOCATION:Dalhousie University – Marion McCain Building – Room 2017\, 6135 University Avenue\, Halifax\, Nova Scotia\, B3H 4P9\, Canada
ORGANIZER;CN="GPNS Halifax Region":MAILTO:halifax@greenpartyns.ca
END:VEVENT
BEGIN:VEVENT
DTSTART;TZID=America/Halifax:20191124T133000
DTEND;TZID=America/Halifax:20191124T143000
DTSTAMP:20260425T222120
CREATED:20191109T163156Z
LAST-MODIFIED:20220929T180153Z
UID:2456-1574602200-1574605800@greenpartyns.ca
SUMMARY:Nomination Meeting - Truro-Bible Hill-Millbrook-Salmon River EDA
DESCRIPTION:Get ready for the upcoming by-election!\nThe candidate nomination meeting for Truro-Bible Hill-Millbrook-Salmon River will be held on Sunday\, Nov. 24\, at 1:30 PM in the Read Room of the Colchester-East Hants Public Library\, 754 Prince Street\, Truro. \nNew members are welcome. To vote you must be registered as a member of the Green Party of Nova Scotia 14 days before the meeting.  For further information\, contact: truro.bhmsr@greenpartyns.ca
URL:https://greenpartyns.ca/event/nomination-meeting-truro-bible-hill-millbrook-salmon-river-eda/
LOCATION:Colchester-East Hants Public Library\, 754 Prince Street\, Truro\, Nova Scotia\, Canada
ORGANIZER;CN="Truro-Bible Hill-Millbrook-Salmon River Green EDA":MAILTO:truro.bhmsr@greenpartyns.ca
END:VEVENT
END:VCALENDAR