BEGIN:VCALENDAR
VERSION:2.0
PRODID:-//Green Party of Nova Scotia - ECPv6.15.12.2//NONSGML v1.0//EN
CALSCALE:GREGORIAN
METHOD:PUBLISH
X-ORIGINAL-URL:https://greenpartyns.ca
X-WR-CALDESC:Events for Green Party of Nova Scotia
REFRESH-INTERVAL;VALUE=DURATION:PT1H
X-Robots-Tag:noindex
X-PUBLISHED-TTL:PT1H
BEGIN:VTIMEZONE
TZID:America/Halifax
BEGIN:DAYLIGHT
TZOFFSETFROM:-0400
TZOFFSETTO:-0300
TZNAME:ADT
DTSTART:20180311T060000
END:DAYLIGHT
BEGIN:STANDARD
TZOFFSETFROM:-0300
TZOFFSETTO:-0400
TZNAME:AST
DTSTART:20181104T050000
END:STANDARD
BEGIN:DAYLIGHT
TZOFFSETFROM:-0400
TZOFFSETTO:-0300
TZNAME:ADT
DTSTART:20190310T060000
END:DAYLIGHT
BEGIN:STANDARD
TZOFFSETFROM:-0300
TZOFFSETTO:-0400
TZNAME:AST
DTSTART:20191103T050000
END:STANDARD
BEGIN:DAYLIGHT
TZOFFSETFROM:-0400
TZOFFSETTO:-0300
TZNAME:ADT
DTSTART:20200308T060000
END:DAYLIGHT
BEGIN:STANDARD
TZOFFSETFROM:-0300
TZOFFSETTO:-0400
TZNAME:AST
DTSTART:20201101T050000
END:STANDARD
END:VTIMEZONE
BEGIN:VEVENT
DTSTART;VALUE=DATE:20191006
DTEND;VALUE=DATE:20191007
DTSTAMP:20260425T235151
CREATED:20190904T182129Z
LAST-MODIFIED:20220929T180153Z
UID:2327-1570320000-1570406399@greenpartyns.ca
SUMMARY:Executive Meeting - October (Provincial Executive)
DESCRIPTION:This is the regular monthly meeting of the Provincial Executive. \nThe meeting will be held online using videochat software. \nMembers are welcome to observe\, and may be granted speaking privileges at the discretion of the Executive. If you are a current member of the GPNS\, please email gpns@greenpartyns.ca for the URL to join the meeting. \n(Note: As this is newly-posted\, the time is not set yet\, because it has not been selected. This event will be updated with the time and a specific location once it is determined. If for some reason\, no specific time and location have been posted\, and it’s less than a week before the event\, please contact gpns@greenpartyns.ca)
URL:https://greenpartyns.ca/event/executive-meeting-october-provincial-executive/
LOCATION:Videoconference
ORGANIZER;CN="Green Party of Nova Scotia":MAILTO:gpns@greenpartyns.ca
END:VEVENT
BEGIN:VEVENT
DTSTART;TZID=America/Halifax:20191024T190000
DTEND;TZID=America/Halifax:20191024T203000
DTSTAMP:20260425T235151
CREATED:20191024T143025Z
LAST-MODIFIED:20220929T180153Z
UID:2413-1571943600-1571949000@greenpartyns.ca
SUMMARY:General Meeting - Halifax Region
DESCRIPTION:Agenda \n* We will hear from Kai Trappenberg representing  Dalhousie Greens. \n* Election of a new Regional Representative to the Executive Committee. \n* Changes to the provincial riding boundaries. \n* Identify at least one issue to the Halifax region\, which we will forward to the policy committee. \n* Electoral District Associations (EDA) – do we want to set up an EDA in one (or more?) of our districts? If we did\, then we could fundraise in the name of that EDA\, and actually have a bank account\, etc. \n* Discuss possible candidates for the various ridings.
URL:https://greenpartyns.ca/event/general-meeting-halifax-region/
LOCATION:Dalhousie University – Marion McCain Building – Room 2017\, 6135 University Avenue\, Halifax\, Nova Scotia\, B3H 4P9\, Canada
ORGANIZER;CN="GPNS Halifax Region":MAILTO:halifax@greenpartyns.ca
END:VEVENT
BEGIN:VEVENT
DTSTART;TZID=America/Halifax:20191027T130000
DTEND;TZID=America/Halifax:20191027T140000
DTSTAMP:20260425T235151
CREATED:20190904T181504Z
LAST-MODIFIED:20220929T180153Z
UID:2320-1572181200-1572184800@greenpartyns.ca
SUMMARY:Committee Meeting - Truro-Bible Hill-Millbrook-Salmon River Electoral District Association
DESCRIPTION:This is the regular every-two-months meeting of the Truro-Bible Hill-Millbrook-Salmon River EDA. New members are welcome\, as there is lots of work to do\, and new people are always welcome. \n(Note: As this is newly-posted\, the location is not set yet\, because it has not been selected. This event will be updated with a specific location once it is determined. If for some reason\, no specific location has been posted\, and it’s less than a week before the event\, please contact gpns@greenpartyns.ca)
URL:https://greenpartyns.ca/event/committee-meeting-truro-bible-hill-millbrook-salmon-river-electoral-district-association/
LOCATION:Colchester-East Hants Public Library\, 754 Prince Street\, Truro\, Nova Scotia\, Canada
ORGANIZER;CN="Truro-Bible Hill-Millbrook-Salmon River Green EDA":MAILTO:truro.bhmsr@greenpartyns.ca
END:VEVENT
BEGIN:VEVENT
DTSTART;TZID=America/Halifax:20191027T140000
DTEND;TZID=America/Halifax:20191027T150000
DTSTAMP:20260425T235151
CREATED:20190905T001740Z
LAST-MODIFIED:20220929T180153Z
UID:2335-1572184800-1572188400@greenpartyns.ca
SUMMARY:Committee Meeting - Colchester North Electoral District Association
DESCRIPTION:This is the regular every-two-months meeting of the Colchester North EDA. New members are welcome\, as there is lots of work to do\, and new people are always welcome. \n(Note: As this is newly-posted\, the location is not set yet\, because it has not been selected. This event will be updated with a specific location once it is determined. If for some reason\, no specific location has been posted\, and it’s less than a week before the event\, please contact gpns@greenpartyns.ca)
URL:https://greenpartyns.ca/event/committee-meeting-colchester-north-electoral-district-association/
LOCATION:Colchester-East Hants Public Library\, 754 Prince Street\, Truro\, Nova Scotia\, Canada
END:VEVENT
END:VCALENDAR