BEGIN:VCALENDAR
VERSION:2.0
PRODID:-//Green Party of Nova Scotia - ECPv6.15.12.2//NONSGML v1.0//EN
CALSCALE:GREGORIAN
METHOD:PUBLISH
X-ORIGINAL-URL:https://greenpartyns.ca
X-WR-CALDESC:Events for Green Party of Nova Scotia
REFRESH-INTERVAL;VALUE=DURATION:PT1H
X-Robots-Tag:noindex
X-PUBLISHED-TTL:PT1H
BEGIN:VTIMEZONE
TZID:America/Halifax
BEGIN:DAYLIGHT
TZOFFSETFROM:-0400
TZOFFSETTO:-0300
TZNAME:ADT
DTSTART:20180311T060000
END:DAYLIGHT
BEGIN:STANDARD
TZOFFSETFROM:-0300
TZOFFSETTO:-0400
TZNAME:AST
DTSTART:20181104T050000
END:STANDARD
BEGIN:DAYLIGHT
TZOFFSETFROM:-0400
TZOFFSETTO:-0300
TZNAME:ADT
DTSTART:20190310T060000
END:DAYLIGHT
BEGIN:STANDARD
TZOFFSETFROM:-0300
TZOFFSETTO:-0400
TZNAME:AST
DTSTART:20191103T050000
END:STANDARD
BEGIN:DAYLIGHT
TZOFFSETFROM:-0400
TZOFFSETTO:-0300
TZNAME:ADT
DTSTART:20200308T060000
END:DAYLIGHT
BEGIN:STANDARD
TZOFFSETFROM:-0300
TZOFFSETTO:-0400
TZNAME:AST
DTSTART:20201101T050000
END:STANDARD
END:VTIMEZONE
BEGIN:VEVENT
DTSTART;VALUE=DATE:20190908
DTEND;VALUE=DATE:20190909
DTSTAMP:20260426T011831
CREATED:20190904T181835Z
LAST-MODIFIED:20220929T180153Z
UID:2324-1567900800-1567987199@greenpartyns.ca
SUMMARY:Executive Meeting - September (Provincial Executive)
DESCRIPTION:This is the regular monthly meeting of the Provincial Executive. \nThe meeting will be held online using videochat software. \nMembers are welcome to observe\, and may be granted speaking privileges at the discretion of the Executive. If you are a current member of the GPNS\, please email gpns@greenpartyns.ca for the URL to join the meeting. \n(Note: As this is newly-posted\, the time is not set yet\, because it has not been selected. This event will be updated with the time and a specific location once it is determined. If for some reason\, no specific time and location have been posted\, and it’s less than a week before the event\, please contact gpns@greenpartyns.ca)
URL:https://greenpartyns.ca/event/executive-meeting-provincial-executive/
LOCATION:Videoconference
ORGANIZER;CN="Green Party of Nova Scotia":MAILTO:gpns@greenpartyns.ca
END:VEVENT
BEGIN:VEVENT
DTSTART;TZID=America/Halifax:20190921T170000
DTEND;TZID=America/Halifax:20190921T190000
DTSTAMP:20260426T011831
CREATED:20190904T232758Z
LAST-MODIFIED:20220929T180153Z
UID:2331-1569085200-1569092400@greenpartyns.ca
SUMMARY:Truro-area Meet 'n' Greet
DESCRIPTION:PLEASE JOIN US AND HELP MAKE NOVA SCOTIA A BETTER PLACE TO LIVE AND WORK FOR OURSELVES AND OUR CHILDREN
URL:https://greenpartyns.ca/event/truro-area-meet-n-greet/
LOCATION:Nook and Cranny\, 627 Prince Street\, Truro\, Nova Scotia\, B2N 1G5\, Canada
ORGANIZER;CN="Truro-Bible Hill-Millbrook-Salmon River Green EDA":MAILTO:truro.bhmsr@greenpartyns.ca
END:VEVENT
END:VCALENDAR