BEGIN:VCALENDAR
VERSION:2.0
PRODID:-//Green Party of Nova Scotia - ECPv6.15.12.2//NONSGML v1.0//EN
CALSCALE:GREGORIAN
METHOD:PUBLISH
X-ORIGINAL-URL:https://greenpartyns.ca
X-WR-CALDESC:Events for Green Party of Nova Scotia
REFRESH-INTERVAL;VALUE=DURATION:PT1H
X-Robots-Tag:noindex
X-PUBLISHED-TTL:PT1H
BEGIN:VTIMEZONE
TZID:America/Halifax
BEGIN:DAYLIGHT
TZOFFSETFROM:-0400
TZOFFSETTO:-0300
TZNAME:ADT
DTSTART:20190310T060000
END:DAYLIGHT
BEGIN:STANDARD
TZOFFSETFROM:-0300
TZOFFSETTO:-0400
TZNAME:AST
DTSTART:20191103T050000
END:STANDARD
BEGIN:DAYLIGHT
TZOFFSETFROM:-0400
TZOFFSETTO:-0300
TZNAME:ADT
DTSTART:20200308T060000
END:DAYLIGHT
BEGIN:STANDARD
TZOFFSETFROM:-0300
TZOFFSETTO:-0400
TZNAME:AST
DTSTART:20201101T050000
END:STANDARD
BEGIN:DAYLIGHT
TZOFFSETFROM:-0400
TZOFFSETTO:-0300
TZNAME:ADT
DTSTART:20210314T060000
END:DAYLIGHT
BEGIN:STANDARD
TZOFFSETFROM:-0300
TZOFFSETTO:-0400
TZNAME:AST
DTSTART:20211107T050000
END:STANDARD
END:VTIMEZONE
BEGIN:VEVENT
DTSTART;TZID=America/Halifax:20200913T153000
DTEND;TZID=America/Halifax:20200913T170000
DTSTAMP:20260425T110719
CREATED:20200910T002558Z
LAST-MODIFIED:20220929T180152Z
UID:2880-1600011000-1600016400@greenpartyns.ca
SUMMARY:September Executive Meeting
DESCRIPTION:This is the regular monthly meeting of the Executive for September 2020. Meetings of the Executive are open to all Members of the Party to observe if they wish. This meeting will be held in person\, in the Eastern Shore riding. If you are interested in joining us to observe\, please contact the GPNS via gpns@greenpartyns.ca for location details.
URL:https://greenpartyns.ca/event/september-executive-meeting/
CATEGORIES:Executive
END:VEVENT
END:VCALENDAR