BEGIN:VCALENDAR
VERSION:2.0
PRODID:-//Green Party of Nova Scotia - ECPv6.15.12.2//NONSGML v1.0//EN
CALSCALE:GREGORIAN
METHOD:PUBLISH
X-WR-CALNAME:Green Party of Nova Scotia
X-ORIGINAL-URL:https://greenpartyns.ca
X-WR-CALDESC:Events for Green Party of Nova Scotia
REFRESH-INTERVAL;VALUE=DURATION:PT1H
X-Robots-Tag:noindex
X-PUBLISHED-TTL:PT1H
BEGIN:VTIMEZONE
TZID:America/Halifax
BEGIN:DAYLIGHT
TZOFFSETFROM:-0400
TZOFFSETTO:-0300
TZNAME:ADT
DTSTART:20190310T060000
END:DAYLIGHT
BEGIN:STANDARD
TZOFFSETFROM:-0300
TZOFFSETTO:-0400
TZNAME:AST
DTSTART:20191103T050000
END:STANDARD
BEGIN:DAYLIGHT
TZOFFSETFROM:-0400
TZOFFSETTO:-0300
TZNAME:ADT
DTSTART:20200308T060000
END:DAYLIGHT
BEGIN:STANDARD
TZOFFSETFROM:-0300
TZOFFSETTO:-0400
TZNAME:AST
DTSTART:20201101T050000
END:STANDARD
BEGIN:DAYLIGHT
TZOFFSETFROM:-0400
TZOFFSETTO:-0300
TZNAME:ADT
DTSTART:20210314T060000
END:DAYLIGHT
BEGIN:STANDARD
TZOFFSETFROM:-0300
TZOFFSETTO:-0400
TZNAME:AST
DTSTART:20211107T050000
END:STANDARD
END:VTIMEZONE
BEGIN:VEVENT
DTSTART;TZID=America/Halifax:20200812T173000
DTEND;TZID=America/Halifax:20200812T203000
DTSTAMP:20260425T110216
CREATED:20200723T143325Z
LAST-MODIFIED:20220929T180152Z
UID:2828-1597253400-1597264200@greenpartyns.ca
SUMMARY:August Executive Meeting
DESCRIPTION:This is the regular monthly meeting of the Executive for August 2020. Meetings of the Executive are open to all Members of the Party to observe if they wish. If you are interested in observing the meeting\, please contact the GPNS via gpns@greenpartyns.ca – you will receive a link to the videoconference.
URL:https://greenpartyns.ca/event/august-executive-meeting/
LOCATION:Videoconference
CATEGORIES:Executive,Meeting
ORGANIZER;CN="Green Party of Nova Scotia":MAILTO:gpns@greenpartyns.ca
END:VEVENT
END:VCALENDAR