BEGIN:VCALENDAR
VERSION:2.0
PRODID:-//Green Party of Nova Scotia - ECPv6.15.12.2//NONSGML v1.0//EN
CALSCALE:GREGORIAN
METHOD:PUBLISH
X-ORIGINAL-URL:https://greenpartyns.ca
X-WR-CALDESC:Events for Green Party of Nova Scotia
REFRESH-INTERVAL;VALUE=DURATION:PT1H
X-Robots-Tag:noindex
X-PUBLISHED-TTL:PT1H
BEGIN:VTIMEZONE
TZID:America/Halifax
BEGIN:DAYLIGHT
TZOFFSETFROM:-0400
TZOFFSETTO:-0300
TZNAME:ADT
DTSTART:20220313T060000
END:DAYLIGHT
BEGIN:STANDARD
TZOFFSETFROM:-0300
TZOFFSETTO:-0400
TZNAME:AST
DTSTART:20221106T050000
END:STANDARD
BEGIN:DAYLIGHT
TZOFFSETFROM:-0400
TZOFFSETTO:-0300
TZNAME:ADT
DTSTART:20230312T060000
END:DAYLIGHT
BEGIN:STANDARD
TZOFFSETFROM:-0300
TZOFFSETTO:-0400
TZNAME:AST
DTSTART:20231105T050000
END:STANDARD
BEGIN:DAYLIGHT
TZOFFSETFROM:-0400
TZOFFSETTO:-0300
TZNAME:ADT
DTSTART:20240310T060000
END:DAYLIGHT
BEGIN:STANDARD
TZOFFSETFROM:-0300
TZOFFSETTO:-0400
TZNAME:AST
DTSTART:20241103T050000
END:STANDARD
END:VTIMEZONE
BEGIN:VEVENT
DTSTART;VALUE=DATE:20230422
DTEND;VALUE=DATE:20230423
DTSTAMP:20260421T052754
CREATED:20230119T143943Z
LAST-MODIFIED:20230314T162255Z
UID:4060-1682121600-1682207999@greenpartyns.ca
SUMMARY:AGM in the HRM - Join Greens at our annual gathering
DESCRIPTION:RSVP: http://gvote.greenpartyns.ca/rsvp/eve_2b690a647 \nor contact gpns@greenpartyns.ca \nWhen\nApril 22\, 2023\, 09:00 AM — 05:00 PM\n\n\n\nWhere\nSaint Mary’s University\, Atrium Building Room #216\n923 Robie Street\, Halifax \n\nPlease join us at our AGM! An in person event with some virtual participation possible. \nThe days activities will include:\nWelcome & Adoption of Green Rules\nOfficer Elections to the Provincial Executive\nKeynote address from leader(s) & invited guests\nConstitution & Policy proposals voting \nRefreshments for breakfast and lunch will be provided\, but a RSVP is required. \nWe hope to see you there!
URL:https://greenpartyns.ca/event/save-the-date-green-party-of-nova-scotia-agm/
END:VEVENT
END:VCALENDAR