BEGIN:VCALENDAR
VERSION:2.0
PRODID:-//Green Party of Nova Scotia - ECPv6.15.12.2//NONSGML v1.0//EN
CALSCALE:GREGORIAN
METHOD:PUBLISH
X-WR-CALNAME:Green Party of Nova Scotia
X-ORIGINAL-URL:https://greenpartyns.ca
X-WR-CALDESC:Events for Green Party of Nova Scotia
REFRESH-INTERVAL;VALUE=DURATION:PT1H
X-Robots-Tag:noindex
X-PUBLISHED-TTL:PT1H
BEGIN:VTIMEZONE
TZID:America/Halifax
BEGIN:DAYLIGHT
TZOFFSETFROM:-0400
TZOFFSETTO:-0300
TZNAME:ADT
DTSTART:20220313T060000
END:DAYLIGHT
BEGIN:STANDARD
TZOFFSETFROM:-0300
TZOFFSETTO:-0400
TZNAME:AST
DTSTART:20221106T050000
END:STANDARD
BEGIN:DAYLIGHT
TZOFFSETFROM:-0400
TZOFFSETTO:-0300
TZNAME:ADT
DTSTART:20230312T060000
END:DAYLIGHT
BEGIN:STANDARD
TZOFFSETFROM:-0300
TZOFFSETTO:-0400
TZNAME:AST
DTSTART:20231105T050000
END:STANDARD
BEGIN:DAYLIGHT
TZOFFSETFROM:-0400
TZOFFSETTO:-0300
TZNAME:ADT
DTSTART:20240310T060000
END:DAYLIGHT
BEGIN:STANDARD
TZOFFSETFROM:-0300
TZOFFSETTO:-0400
TZNAME:AST
DTSTART:20241103T050000
END:STANDARD
END:VTIMEZONE
BEGIN:VEVENT
DTSTART;TZID=America/Halifax:20230413T183000
DTEND;TZID=America/Halifax:20230413T200000
DTSTAMP:20260421T052803
CREATED:20230301T175255Z
LAST-MODIFIED:20230404T143719Z
UID:4069-1681410600-1681416000@greenpartyns.ca
SUMMARY:Provincial Executive Meeting (monthly)
DESCRIPTION:A regular meeting of the Green Party of Nova Scotia Provincial Executive will take place on Thursday April 13th starting at 6:30pm AT. \nPlease use this zoom link here to register for the meeting. \nRegistrants with an up to date membership will be admitted to the meeting as observers once the meeting has come to order. \nPlease contact provincial dot administrator at greenpartyns.ca for more information.
URL:https://greenpartyns.ca/event/provincial-executive-meeting-monthly-2/
LOCATION:Online\, Zoom
ORGANIZER;CN="Green Party of Nova Scotia":MAILTO:gpns@greenpartyns.ca
END:VEVENT
END:VCALENDAR