BEGIN:VCALENDAR
VERSION:2.0
PRODID:-//Green Party of Nova Scotia - ECPv6.15.12.2//NONSGML v1.0//EN
CALSCALE:GREGORIAN
METHOD:PUBLISH
X-WR-CALNAME:Green Party of Nova Scotia
X-ORIGINAL-URL:https://greenpartyns.ca
X-WR-CALDESC:Events for Green Party of Nova Scotia
REFRESH-INTERVAL;VALUE=DURATION:PT1H
X-Robots-Tag:noindex
X-PUBLISHED-TTL:PT1H
BEGIN:VTIMEZONE
TZID:America/Halifax
BEGIN:DAYLIGHT
TZOFFSETFROM:-0400
TZOFFSETTO:-0300
TZNAME:ADT
DTSTART:20190310T060000
END:DAYLIGHT
BEGIN:STANDARD
TZOFFSETFROM:-0300
TZOFFSETTO:-0400
TZNAME:AST
DTSTART:20191103T050000
END:STANDARD
BEGIN:DAYLIGHT
TZOFFSETFROM:-0400
TZOFFSETTO:-0300
TZNAME:ADT
DTSTART:20200308T060000
END:DAYLIGHT
BEGIN:STANDARD
TZOFFSETFROM:-0300
TZOFFSETTO:-0400
TZNAME:AST
DTSTART:20201101T050000
END:STANDARD
BEGIN:DAYLIGHT
TZOFFSETFROM:-0400
TZOFFSETTO:-0300
TZNAME:ADT
DTSTART:20210314T060000
END:DAYLIGHT
BEGIN:STANDARD
TZOFFSETFROM:-0300
TZOFFSETTO:-0400
TZNAME:AST
DTSTART:20211107T050000
END:STANDARD
END:VTIMEZONE
BEGIN:VEVENT
DTSTART;TZID=America/Halifax:20200605T101500
DTEND;TZID=America/Halifax:20200605T103000
DTSTAMP:20260425T134059
CREATED:20200604T124127Z
LAST-MODIFIED:20220929T180153Z
UID:2767-1591352100-1591353000@greenpartyns.ca
SUMMARY:Halifax Needham EDA Meeting
DESCRIPTION:This meeting will be very brief – 15 minutes or less. The entire purpose is to approve the minutes of our Founding Meeting\, and to schedule our next meeting. All Halifax Needham members are welcome – email halifax.needham@greenpartyns.ca if you would like the videoconference link.
URL:https://greenpartyns.ca/event/halifax-needham-eda-meeting/
LOCATION:Videoconference
END:VEVENT
END:VCALENDAR