BEGIN:VCALENDAR
VERSION:2.0
PRODID:-//Green Party of Nova Scotia - ECPv6.15.12.2//NONSGML v1.0//EN
CALSCALE:GREGORIAN
METHOD:PUBLISH
X-ORIGINAL-URL:https://greenpartyns.ca
X-WR-CALDESC:Events for Green Party of Nova Scotia
REFRESH-INTERVAL;VALUE=DURATION:PT1H
X-Robots-Tag:noindex
X-PUBLISHED-TTL:PT1H
BEGIN:VTIMEZONE
TZID:America/Halifax
BEGIN:DAYLIGHT
TZOFFSETFROM:-0400
TZOFFSETTO:-0300
TZNAME:ADT
DTSTART:20190310T060000
END:DAYLIGHT
BEGIN:STANDARD
TZOFFSETFROM:-0300
TZOFFSETTO:-0400
TZNAME:AST
DTSTART:20191103T050000
END:STANDARD
BEGIN:DAYLIGHT
TZOFFSETFROM:-0400
TZOFFSETTO:-0300
TZNAME:ADT
DTSTART:20200308T060000
END:DAYLIGHT
BEGIN:STANDARD
TZOFFSETFROM:-0300
TZOFFSETTO:-0400
TZNAME:AST
DTSTART:20201101T050000
END:STANDARD
BEGIN:DAYLIGHT
TZOFFSETFROM:-0400
TZOFFSETTO:-0300
TZNAME:ADT
DTSTART:20210314T060000
END:DAYLIGHT
BEGIN:STANDARD
TZOFFSETFROM:-0300
TZOFFSETTO:-0400
TZNAME:AST
DTSTART:20211107T050000
END:STANDARD
END:VTIMEZONE
BEGIN:VEVENT
DTSTART;TZID=America/Halifax:20200303T190000
DTEND;TZID=America/Halifax:20200303T200000
DTSTAMP:20260425T175933
CREATED:20200229T172821Z
LAST-MODIFIED:20220929T180153Z
UID:2647-1583262000-1583265600@greenpartyns.ca
SUMMARY:Tips from a Winning Campaign: Jenica Atwin's Campaign Managers
DESCRIPTION:Join the GPNS Fundy Shore Region for an online presentation by the co-Campaign Managers of Jenica Atwin’s winning federal Campaign in Fredericton. Shannon Carmont and Rob Sheidow will be sharing their best tips & tricks as well as looking at what they would do differently. \nThe webinar will be held on Tuesday\, March 3\, at 7:00 PM. Information on how to join the event is pasted below. \nWe are all excited that Jenica has joined Elizabeth May and Paul Manly in Ottawa. The GPC’s three member caucus is working diligently. Let’s learn what worked so that we can send some Green MLAs to Province House here in Nova Scotia\, too. \nWinning Campaigns come from federal and provincial electoral districts. Canada is very diverse\, and having a selection of strategies to choose from in your unique region is very important. \nThe GPNS Fundy Shore hopes that this will become a series of webinars for sharing winning strategies and tips with and for Greens across Canada. \nHow to join in: \nGPNS Executive Committee is inviting you to a scheduled Zoom meeting \nTopic: Tips from a Winning Campaign – Jenica Atwin’s Campaign Mgrs\nTime: Mar 3\, 2020 07:00 PM Atlantic Time (Canada) \nJoin Zoom Meeting:\nhttps://zoom.us/j/424508409 \nMeeting ID: 424 508 409 \nOne tap mobile\n+19294362866\,\,424508409# US (New York)\n+16699006833\,\,424508409# US (San Jose) \nDial by your location\n        +1 929 436 2866 US (New York)\n        +1 669 900 6833 US (San Jose)\nMeeting ID: 424 508 409\nFind your local number: https://zoom.us/u/aezhxiosO6
URL:https://greenpartyns.ca/event/tips-from-a-winning-campaign-jenica-atwins-campaign-managers/
LOCATION:Videoconference
END:VEVENT
END:VCALENDAR