BEGIN:VCALENDAR
VERSION:2.0
PRODID:-//Green Party of Nova Scotia - ECPv6.15.12.2//NONSGML v1.0//EN
CALSCALE:GREGORIAN
METHOD:PUBLISH
X-WR-CALNAME:Green Party of Nova Scotia
X-ORIGINAL-URL:https://greenpartyns.ca
X-WR-CALDESC:Events for Green Party of Nova Scotia
REFRESH-INTERVAL;VALUE=DURATION:PT1H
X-Robots-Tag:noindex
X-PUBLISHED-TTL:PT1H
BEGIN:VTIMEZONE
TZID:America/Halifax
BEGIN:DAYLIGHT
TZOFFSETFROM:-0400
TZOFFSETTO:-0300
TZNAME:ADT
DTSTART:20190310T060000
END:DAYLIGHT
BEGIN:STANDARD
TZOFFSETFROM:-0300
TZOFFSETTO:-0400
TZNAME:AST
DTSTART:20191103T050000
END:STANDARD
BEGIN:DAYLIGHT
TZOFFSETFROM:-0400
TZOFFSETTO:-0300
TZNAME:ADT
DTSTART:20200308T060000
END:DAYLIGHT
BEGIN:STANDARD
TZOFFSETFROM:-0300
TZOFFSETTO:-0400
TZNAME:AST
DTSTART:20201101T050000
END:STANDARD
BEGIN:DAYLIGHT
TZOFFSETFROM:-0400
TZOFFSETTO:-0300
TZNAME:ADT
DTSTART:20210314T060000
END:DAYLIGHT
BEGIN:STANDARD
TZOFFSETFROM:-0300
TZOFFSETTO:-0400
TZNAME:AST
DTSTART:20211107T050000
END:STANDARD
END:VTIMEZONE
BEGIN:VEVENT
DTSTART;TZID=America/Halifax:20200210T190000
DTEND;TZID=America/Halifax:20200210T210000
DTSTAMP:20260425T193428
CREATED:20200203T210523Z
LAST-MODIFIED:20220929T180153Z
UID:2593-1581361200-1581368400@greenpartyns.ca
SUMMARY:The Future Is Green: Panel & Town Hall Forum in Truro
DESCRIPTION:
URL:https://greenpartyns.ca/event/the-future-is-green-panel-town-hall-forum-in-truro/
LOCATION:Forrester Hall\, NSCC Truro\, 36 Arthur St\, Truro\, Nova Scotia\, B2N 1X5\, Canada
END:VEVENT
END:VCALENDAR