BEGIN:VCALENDAR
VERSION:2.0
PRODID:-//Green Party of Nova Scotia - ECPv6.15.12.2//NONSGML v1.0//EN
CALSCALE:GREGORIAN
METHOD:PUBLISH
X-WR-CALNAME:Green Party of Nova Scotia
X-ORIGINAL-URL:https://greenpartyns.ca
X-WR-CALDESC:Events for Green Party of Nova Scotia
REFRESH-INTERVAL;VALUE=DURATION:PT1H
X-Robots-Tag:noindex
X-PUBLISHED-TTL:PT1H
BEGIN:VTIMEZONE
TZID:America/Halifax
BEGIN:DAYLIGHT
TZOFFSETFROM:-0400
TZOFFSETTO:-0300
TZNAME:ADT
DTSTART:20180311T060000
END:DAYLIGHT
BEGIN:STANDARD
TZOFFSETFROM:-0300
TZOFFSETTO:-0400
TZNAME:AST
DTSTART:20181104T050000
END:STANDARD
BEGIN:DAYLIGHT
TZOFFSETFROM:-0400
TZOFFSETTO:-0300
TZNAME:ADT
DTSTART:20190310T060000
END:DAYLIGHT
BEGIN:STANDARD
TZOFFSETFROM:-0300
TZOFFSETTO:-0400
TZNAME:AST
DTSTART:20191103T050000
END:STANDARD
BEGIN:DAYLIGHT
TZOFFSETFROM:-0400
TZOFFSETTO:-0300
TZNAME:ADT
DTSTART:20200308T060000
END:DAYLIGHT
BEGIN:STANDARD
TZOFFSETFROM:-0300
TZOFFSETTO:-0400
TZNAME:AST
DTSTART:20201101T050000
END:STANDARD
END:VTIMEZONE
BEGIN:VEVENT
DTSTART;TZID=America/Halifax:20191124T133000
DTEND;TZID=America/Halifax:20191124T143000
DTSTAMP:20260425T234936
CREATED:20191109T163156Z
LAST-MODIFIED:20220929T180153Z
UID:2456-1574602200-1574605800@greenpartyns.ca
SUMMARY:Nomination Meeting - Truro-Bible Hill-Millbrook-Salmon River EDA
DESCRIPTION:Get ready for the upcoming by-election!\nThe candidate nomination meeting for Truro-Bible Hill-Millbrook-Salmon River will be held on Sunday\, Nov. 24\, at 1:30 PM in the Read Room of the Colchester-East Hants Public Library\, 754 Prince Street\, Truro. \nNew members are welcome. To vote you must be registered as a member of the Green Party of Nova Scotia 14 days before the meeting.  For further information\, contact: truro.bhmsr@greenpartyns.ca
URL:https://greenpartyns.ca/event/nomination-meeting-truro-bible-hill-millbrook-salmon-river-eda/
LOCATION:Colchester-East Hants Public Library\, 754 Prince Street\, Truro\, Nova Scotia\, Canada
ORGANIZER;CN="Truro-Bible Hill-Millbrook-Salmon River Green EDA":MAILTO:truro.bhmsr@greenpartyns.ca
END:VEVENT
END:VCALENDAR